Workbook

Sheet 說明
A1: 歲入部分有問題請詢問財政處
A2: 非「本府各單位」之資本門計畫，請勿填寫這份Excel檔，請自CBA系統修改各月分配金額

Sheet 歲入
B1: (機關名稱)
B2: 歲入預算分配表 | M2: 單位：千元
A3: 經常門或資本門 | G3: ="中華民國"&年度!A1&"年度" -> 中華民國116年度 | M3: 全 頁第 頁
A4: 科 目 | E4: 全年度 預算數 | F4: 第一期小計 | G4: 一月分配數 | H4: 二月分配數 | I4: 三月分配數 | J4: 第二期小計 | K4: 四月分配數 | L4: 五月分配數 | M4: 六月分配數
A5: 款 | B5: 項 | C5: 目 | D5: 名 稱 及 編 號 | F5: 第三期小計 | G5: 七月分配數 | H5: 八月分配數 | I5: 九月分配數 | J5: 第四期小計 | K5: 十月分配數 | L5: 十一月分配數 | M5: 十二月分配數
A6: X | D6: XX000000000
D7: (來源別)
B8: X | D8: XXXXXXXX00
D9: (子目)
C10: X | D10: XXXXXXXXX
D11: (細目)
A32: 合 計
C34: 製表人 | H34: 單位主管 | K34: 機關長官

Sheet 房屋建築
B1: (○○處)
B2: 歲出分配預算與計畫配合表
B3: ="中華民國"&年度!A1&"年度" -> 中華民國116年度 | J3: 單位：千元
A4: 一、計畫名稱及編號： | C4: 一般建築及設備-房屋建築 | L4: 灰底部分有公式，請勿修改
A5: 二、全年度預算數： | C5: =B34&"千元" -> 0千元
A6: 三、計畫實施進度或預定完成工作： | C6: 自民國XX年XX月XX日至XX年XX月XX日止
A7: 第一期： | B7: =C34&"千元" -> 0千元 | C7: (請簡要敘述)
A8: 第二期： | B8: =G34&"千元" -> 0千元 | C8: (請簡要敘述)
A9: 第三期： | B9: =C35&"千元" -> 0千元 | C9: (請簡要敘述)
A10: 第四期： | B10: =G35&"千元" -> 0千元 | C10: (請簡要敘述)
A11: 四、預算分配：
A12: 用途別科目及編號 | B12: 全年度預算數 | C12: 第一期小計 | D12: 一月分配數 | E12: 二月分配數 | F12: 三月分配數 | G12: 第二期小計 | H12: 四月分配數 | I12: 五月分配數 | J12: 六月分配數 | K12: 未分配數(含
C13: 第三期小計 | D13: 七月分配數 | E13: 八月分配數 | F13: 九月分配數 | G13: 第四期小計 | H13: 十月分配數 | I13: 十一月分配數 | J13: 十二月分配數 | K13: 專案動支數)
A14: 3000 | B14: =SUM(B16:B23) -> 0 | C14: =SUM(D14:F14) -> 0 | D14: =D16+D18+D20+D22 -> 0 | E14: =E16+E18+E20+E22 -> 0 | F14: =F16+F18+F20+F22 -> 0 | G14: =SUM(H14:J14) -> 0 | H14: =H16+H18+H20+H22 -> 0 | I14: =I16+I18+I20+I22 -> 0 | J14: =J16+J18+J20+J22 -> 0 | K14: =B14-C14-C15-G14-G15 -> 0
A15: 設備及投資 | C15: =SUM(D15:F15) -> 0 | D15: =D17+D19+D21+D23 -> 0 | E15: =E17+E19+E21+E23 -> 0 | F15: =F17+F19+F21+F23 -> 0 | G15: =SUM(H15:J15) -> 0 | H15: =H17+H19+H21+H23 -> 0 | I15: =I17+I19+I21+I23 -> 0 | J15: =J17+J19+J21+J23 -> 0
A16: 項目一 | C16: =SUM(D16:F16) -> 0 | G16: =SUM(H16:J16) -> 0 | K16: =B16-C16-C17-G16-G17 -> 0
C17: =SUM(D17:F17) -> 0 | G17: =SUM(H17:J17) -> 0
A18: 項目二 | C18: =SUM(D18:F18) -> 0 | G18: =SUM(H18:J18) -> 0 | K18: =B18-C18-C19-G18-G19 -> 0
C19: =SUM(D19:F19) -> 0 | G19: =SUM(H19:J19) -> 0
A20: 項目三 | C20: =SUM(D20:F20) -> 0 | G20: =SUM(H20:J20) -> 0 | K20: =B20-C20-C21-G20-G21 -> 0
C21: =SUM(D21:F21) -> 0 | G21: =SUM(H21:J21) -> 0
A22: 項目四 | C22: =SUM(D22:F22) -> 0 | G22: =SUM(H22:J22) -> 0 | K22: =B22-C22-C23-G22-G23 -> 0
C23: =SUM(D23:F23) -> 0 | G23: =SUM(H23:J23) -> 0
A24: 4000 | B24: =SUM(B26:B33) -> 0 | C24: =SUM(D24:F24) -> 0 | D24: =D26+D28+D30+D32 -> 0 | E24: =E26+E28+E30+E32 -> 0 | F24: =F26+F28+F30+F32 -> 0 | G24: =SUM(H24:J24) -> 0 | H24: =H26+H28+H30+H32 -> 0 | I24: =I26+I28+I30+I32 -> 0 | J24: =J26+J28+J30+J32 -> 0 | K24: =B24-C24-C25-G24-G25 -> 0
A25: 獎補助費 | C25: =SUM(D25:F25) -> 0 | D25: =D27+D29+D31+D33 -> 0 | E25: =E27+E29+E31+E33 -> 0 | F25: =F27+F29+F31+F33 -> 0 | G25: =SUM(H25:J25) -> 0 | H25: =H27+H29+H31+H33 -> 0 | I25: =I27+I29+I31+I33 -> 0 | J25: =J27+J29+J31+J33 -> 0
A26: 項目一 | C26: =SUM(D26:F26) -> 0 | G26: =SUM(H26:J26) -> 0 | K26: =B26-C26-C27-G26-G27 -> 0
C27: =SUM(D27:F27) -> 0 | G27: =SUM(H27:J27) -> 0
A28: 項目二 | C28: =SUM(D28:F28) -> 0 | G28: =SUM(H28:J28) -> 0 | K28: =B28-C28-C29-G28-G29 -> 0
C29: =SUM(D29:F29) -> 0 | G29: =SUM(H29:J29) -> 0
A30: 項目三 | C30: =SUM(D30:F30) -> 0 | G30: =SUM(H30:J30) -> 0 | K30: =B30-C30-C31-G30-G31 -> 0
C31: =SUM(D31:F31) -> 0 | G31: =SUM(H31:J31) -> 0
A32: 項目四 | C32: =SUM(D32:F32) -> 0 | G32: =SUM(H32:J32) -> 0 | K32: =B32-C32-C33-G32-G33 -> 0
C33: =SUM(D33:F33) -> 0 | G33: =SUM(H33:J33) -> 0
A34: 合 計 | B34: =B14+B24 -> 0 | C34: =C14+C24 -> 0 | D34: =D14+D24 -> 0 | E34: =E14+E24 -> 0 | F34: =F14+F24 -> 0 | G34: =G14+G24 -> 0 | H34: =H14+H24 -> 0 | I34: =I14+I24 -> 0 | J34: =J14+J24 -> 0 | K34: =B34-C34-C35-G34-G35 -> 0
C35: =C15+C25 -> 0 | D35: =D15+D25 -> 0 | E35: =E15+E25 -> 0 | F35: =F15+F25 -> 0 | G35: =G15+G25 -> 0 | H35: =H15+H25 -> 0 | I35: =I15+I25 -> 0 | J35: =J15+J25 -> 0
A36: 製表人 | F36: 單位主管 | I36: 機關長官

Sheet 其他建築
B1: (○○處)
B2: 歲出分配預算與計畫配合表
B3: ="中華民國"&年度!A1&"年度" -> 中華民國116年度 | J3: 單位：千元
A4: 一、計畫名稱及編號： | C4: 一般建築及設備-其他建築 | L4: 灰底部分有公式，請勿修改
A5: 二、全年度預算數： | C5: =B34&"千元" -> 0千元
A6: 三、計畫實施進度或預定完成工作： | C6: 自民國XX年XX月XX日至XX年XX月XX日止
A7: 第一期： | B7: =C34&"千元" -> 0千元 | C7: (請簡要敘述)
A8: 第二期： | B8: =G34&"千元" -> 0千元 | C8: (請簡要敘述)
A9: 第三期： | B9: =C35&"千元" -> 0千元 | C9: (請簡要敘述)
A10: 第四期： | B10: =G35&"千元" -> 0千元 | C10: (請簡要敘述)
A11: 四、預算分配：
A12: 用途別科目及編號 | B12: 全年度預算數 | C12: 第一期小計 | D12: 一月分配數 | E12: 二月分配數 | F12: 三月分配數 | G12: 第二期小計 | H12: 四月分配數 | I12: 五月分配數 | J12: 六月分配數 | K12: 未分配數(含
C13: 第三期小計 | D13: 七月分配數 | E13: 八月分配數 | F13: 九月分配數 | G13: 第四期小計 | H13: 十月分配數 | I13: 十一月分配數 | J13: 十二月分配數 | K13: 專案動支數)
A14: 3000 | B14: =SUM(B16:B23) -> 0 | C14: =SUM(D14:F14) -> 0 | D14: =D16+D18+D20+D22 -> 0 | E14: =E16+E18+E20+E22 -> 0 | F14: =F16+F18+F20+F22 -> 0 | G14: =SUM(H14:J14) -> 0 | H14: =H16+H18+H20+H22 -> 0 | I14: =I16+I18+I20+I22 -> 0 | J14: =J16+J18+J20+J22 -> 0 | K14: =B14-C14-C15-G14-G15 -> 0
A15: 設備及投資 | C15: =SUM(D15:F15) -> 0 | D15: =D17+D19+D21+D23 -> 0 | E15: =E17+E19+E21+E23 -> 0 | F15: =F17+F19+F21+F23 -> 0 | G15: =SUM(H15:J15) -> 0 | H15: =H17+H19+H21+H23 -> 0 | I15: =I17+I19+I21+I23 -> 0 | J15: =J17+J19+J21+J23 -> 0
A16: 項目一 | C16: =SUM(D16:F16) -> 0 | G16: =SUM(H16:J16) -> 0 | K16: =B16-C16-C17-G16-G17 -> 0
C17: =SUM(D17:F17) -> 0 | G17: =SUM(H17:J17) -> 0
A18: 項目二 | C18: =SUM(D18:F18) -> 0 | G18: =SUM(H18:J18) -> 0 | K18: =B18-C18-C19-G18-G19 -> 0
C19: =SUM(D19:F19) -> 0 | G19: =SUM(H19:J19) -> 0
A20: 項目三 | C20: =SUM(D20:F20) -> 0 | G20: =SUM(H20:J20) -> 0 | K20: =B20-C20-C21-G20-G21 -> 0
C21: =SUM(D21:F21) -> 0 | G21: =SUM(H21:J21) -> 0
A22: 項目四 | C22: =SUM(D22:F22) -> 0 | G22: =SUM(H22:J22) -> 0 | K22: =B22-C22-C23-G22-G23 -> 0
C23: =SUM(D23:F23) -> 0 | G23: =SUM(H23:J23) -> 0
A24: 4000 | B24: =SUM(B26:B33) -> 0 | C24: =SUM(D24:F24) -> 0 | D24: =D26+D28+D30+D32 -> 0 | E24: =E26+E28+E30+E32 -> 0 | F24: =F26+F28+F30+F32 -> 0 | G24: =SUM(H24:J24) -> 0 | H24: =H26+H28+H30+H32 -> 0 | I24: =I26+I28+I30+I32 -> 0 | J24: =J26+J28+J30+J32 -> 0 | K24: =B24-C24-C25-G24-G25 -> 0
A25: 獎補助費 | C25: =SUM(D25:F25) -> 0 | D25: =D27+D29+D31+D33 -> 0 | E25: =E27+E29+E31+E33 -> 0 | F25: =F27+F29+F31+F33 -> 0 | G25: =SUM(H25:J25) -> 0 | H25: =H27+H29+H31+H33 -> 0 | I25: =I27+I29+I31+I33 -> 0 | J25: =J27+J29+J31+J33 -> 0
A26: 項目一 | C26: =SUM(D26:F26) -> 0 | G26: =SUM(H26:J26) -> 0 | K26: =B26-C26-C27-G26-G27 -> 0
C27: =SUM(D27:F27) -> 0 | G27: =SUM(H27:J27) -> 0
A28: 項目二 | C28: =SUM(D28:F28) -> 0 | G28: =SUM(H28:J28) -> 0 | K28: =B28-C28-C29-G28-G29 -> 0
C29: =SUM(D29:F29) -> 0 | G29: =SUM(H29:J29) -> 0
A30: 項目三 | C30: =SUM(D30:F30) -> 0 | G30: =SUM(H30:J30) -> 0 | K30: =B30-C30-C31-G30-G31 -> 0
C31: =SUM(D31:F31) -> 0 | G31: =SUM(H31:J31) -> 0
A32: 項目四 | C32: =SUM(D32:F32) -> 0 | G32: =SUM(H32:J32) -> 0 | K32: =B32-C32-C33-G32-G33 -> 0
C33: =SUM(D33:F33) -> 0 | G33: =SUM(H33:J33) -> 0
A34: 合 計 | B34: =B14+B24 -> 0 | C34: =C14+C24 -> 0 | D34: =D14+D24 -> 0 | E34: =E14+E24 -> 0 | F34: =F14+F24 -> 0 | G34: =G14+G24 -> 0 | H34: =H14+H24 -> 0 | I34: =I14+I24 -> 0 | J34: =J14+J24 -> 0 | K34: =B34-C34-C35-G34-G35 -> 0
C35: =C15+C25 -> 0 | D35: =D15+D25 -> 0 | E35: =E15+E25 -> 0 | F35: =F15+F25 -> 0 | G35: =G15+G25 -> 0 | H35: =H15+H25 -> 0 | I35: =I15+I25 -> 0 | J35: =J15+J25 -> 0
A36: 製表人 | F36: 單位主管 | I36: 機關長官

Sheet 交通及運輸
B1: (○○處)
B2: 歲出分配預算與計畫配合表
B3: ="中華民國"&年度!A1&"年度" -> 中華民國116年度 | J3: 單位：千元
A4: 一、計畫名稱及編號： | C4: 一般建築及設備-交通及運輸設備 | L4: 灰底部分有公式，請勿修改
A5: 二、全年度預算數： | C5: =B34&"千元" -> 0千元
A6: 三、計畫實施進度或預定完成工作： | C6: 自民國XX年XX月XX日至XX年XX月XX日止
A7: 第一期： | B7: =C34&"千元" -> 0千元 | C7: (請簡要敘述)
A8: 第二期： | B8: =G34&"千元" -> 0千元 | C8: (請簡要敘述)
A9: 第三期： | B9: =C35&"千元" -> 0千元 | C9: (請簡要敘述)
A10: 第四期： | B10: =G35&"千元" -> 0千元 | C10: (請簡要敘述)
A11: 四、預算分配：
A12: 用途別科目及編號 | B12: 全年度預算數 | C12: 第一期小計 | D12: 一月分配數 | E12: 二月分配數 | F12: 三月分配數 | G12: 第二期小計 | H12: 四月分配數 | I12: 五月分配數 | J12: 六月分配數 | K12: 未分配數(含
C13: 第三期小計 | D13: 七月分配數 | E13: 八月分配數 | F13: 九月分配數 | G13: 第四期小計 | H13: 十月分配數 | I13: 十一月分配數 | J13: 十二月分配數 | K13: 專案動支數)
A14: 3000 | B14: =SUM(B16:B23) -> 0 | C14: =SUM(D14:F14) -> 0 | D14: =D16+D18+D20+D22 -> 0 | E14: =E16+E18+E20+E22 -> 0 | F14: =F16+F18+F20+F22 -> 0 | G14: =SUM(H14:J14) -> 0 | H14: =H16+H18+H20+H22 -> 0 | I14: =I16+I18+I20+I22 -> 0 | J14: =J16+J18+J20+J22 -> 0 | K14: =B14-C14-C15-G14-G15 -> 0
A15: 設備及投資 | C15: =SUM(D15:F15) -> 0 | D15: =D17+D19+D21+D23 -> 0 | E15: =E17+E19+E21+E23 -> 0 | F15: =F17+F19+F21+F23 -> 0 | G15: =SUM(H15:J15) -> 0 | H15: =H17+H19+H21+H23 -> 0 | I15: =I17+I19+I21+I23 -> 0 | J15: =J17+J19+J21+J23 -> 0
A16: 項目一 | C16: =SUM(D16:F16) -> 0 | G16: =SUM(H16:J16) -> 0 | K16: =B16-C16-C17-G16-G17 -> 0
C17: =SUM(D17:F17) -> 0 | G17: =SUM(H17:J17) -> 0
A18: 項目二 | C18: =SUM(D18:F18) -> 0 | G18: =SUM(H18:J18) -> 0 | K18: =B18-C18-C19-G18-G19 -> 0
C19: =SUM(D19:F19) -> 0 | G19: =SUM(H19:J19) -> 0
A20: 項目三 | C20: =SUM(D20:F20) -> 0 | G20: =SUM(H20:J20) -> 0 | K20: =B20-C20-C21-G20-G21 -> 0
C21: =SUM(D21:F21) -> 0 | G21: =SUM(H21:J21) -> 0
A22: 項目四 | C22: =SUM(D22:F22) -> 0 | G22: =SUM(H22:J22) -> 0 | K22: =B22-C22-C23-G22-G23 -> 0
C23: =SUM(D23:F23) -> 0 | G23: =SUM(H23:J23) -> 0
A24: 4000 | B24: =SUM(B26:B33) -> 0 | C24: =SUM(D24:F24) -> 0 | D24: =D26+D28+D30+D32 -> 0 | E24: =E26+E28+E30+E32 -> 0 | F24: =F26+F28+F30+F32 -> 0 | G24: =SUM(H24:J24) -> 0 | H24: =H26+H28+H30+H32 -> 0 | I24: =I26+I28+I30+I32 -> 0 | J24: =J26+J28+J30+J32 -> 0 | K24: =B24-C24-C25-G24-G25 -> 0
A25: 獎補助費 | C25: =SUM(D25:F25) -> 0 | D25: =D27+D29+D31+D33 -> 0 | E25: =E27+E29+E31+E33 -> 0 | F25: =F27+F29+F31+F33 -> 0 | G25: =SUM(H25:J25) -> 0 | H25: =H27+H29+H31+H33 -> 0 | I25: =I27+I29+I31+I33 -> 0 | J25: =J27+J29+J31+J33 -> 0
A26: 項目一 | C26: =SUM(D26:F26) -> 0 | G26: =SUM(H26:J26) -> 0 | K26: =B26-C26-C27-G26-G27 -> 0
C27: =SUM(D27:F27) -> 0 | G27: =SUM(H27:J27) -> 0
A28: 項目二 | C28: =SUM(D28:F28) -> 0 | G28: =SUM(H28:J28) -> 0 | K28: =B28-C28-C29-G28-G29 -> 0
C29: =SUM(D29:F29) -> 0 | G29: =SUM(H29:J29) -> 0
A30: 項目三 | C30: =SUM(D30:F30) -> 0 | G30: =SUM(H30:J30) -> 0 | K30: =B30-C30-C31-G30-G31 -> 0
C31: =SUM(D31:F31) -> 0 | G31: =SUM(H31:J31) -> 0
A32: 項目四 | C32: =SUM(D32:F32) -> 0 | G32: =SUM(H32:J32) -> 0 | K32: =B32-C32-C33-G32-G33 -> 0
C33: =SUM(D33:F33) -> 0 | G33: =SUM(H33:J33) -> 0
A34: 合 計 | B34: =B14+B24 -> 0 | C34: =C14+C24 -> 0 | D34: =D14+D24 -> 0 | E34: =E14+E24 -> 0 | F34: =F14+F24 -> 0 | G34: =G14+G24 -> 0 | H34: =H14+H24 -> 0 | I34: =I14+I24 -> 0 | J34: =J14+J24 -> 0 | K34: =B34-C34-C35-G34-G35 -> 0
C35: =C15+C25 -> 0 | D35: =D15+D25 -> 0 | E35: =E15+E25 -> 0 | F35: =F15+F25 -> 0 | G35: =G15+G25 -> 0 | H35: =H15+H25 -> 0 | I35: =I15+I25 -> 0 | J35: =J15+J25 -> 0
A36: 製表人 | F36: 單位主管 | I36: 機關長官

Sheet 資訊設備
B1: (○○處)
B2: 歲出分配預算與計畫配合表
B3: ="中華民國"&年度!A1&"年度" -> 中華民國116年度 | J3: 單位：千元
A4: 一、計畫名稱及編號： | C4: 一般建築及設備-資訊設備 | L4: 灰底部分有公式，請勿修改
A5: 二、全年度預算數： | C5: =B34&"千元" -> 0千元
A6: 三、計畫實施進度或預定完成工作： | C6: 自民國XX年XX月XX日至XX年XX月XX日止
A7: 第一期： | B7: =C34&"千元" -> 0千元 | C7: (請簡要敘述)
A8: 第二期： | B8: =G34&"千元" -> 0千元 | C8: (請簡要敘述)
A9: 第三期： | B9: =C35&"千元" -> 0千元 | C9: (請簡要敘述)
A10: 第四期： | B10: =G35&"千元" -> 0千元 | C10: (請簡要敘述)
A11: 四、預算分配：
A12: 用途別科目及編號 | B12: 全年度預算數 | C12: 第一期小計 | D12: 一月分配數 | E12: 二月分配數 | F12: 三月分配數 | G12: 第二期小計 | H12: 四月分配數 | I12: 五月分配數 | J12: 六月分配數 | K12: 未分配數(含
C13: 第三期小計 | D13: 七月分配數 | E13: 八月分配數 | F13: 九月分配數 | G13: 第四期小計 | H13: 十月分配數 | I13: 十一月分配數 | J13: 十二月分配數 | K13: 專案動支數)
A14: 3000 | B14: =SUM(B16:B23) -> 0 | C14: =SUM(D14:F14) -> 0 | D14: =D16+D18+D20+D22 -> 0 | E14: =E16+E18+E20+E22 -> 0 | F14: =F16+F18+F20+F22 -> 0 | G14: =SUM(H14:J14) -> 0 | H14: =H16+H18+H20+H22 -> 0 | I14: =I16+I18+I20+I22 -> 0 | J14: =J16+J18+J20+J22 -> 0 | K14: =B14-C14-C15-G14-G15 -> 0
A15: 設備及投資 | C15: =SUM(D15:F15) -> 0 | D15: =D17+D19+D21+D23 -> 0 | E15: =E17+E19+E21+E23 -> 0 | F15: =F17+F19+F21+F23 -> 0 | G15: =SUM(H15:J15) -> 0 | H15: =H17+H19+H21+H23 -> 0 | I15: =I17+I19+I21+I23 -> 0 | J15: =J17+J19+J21+J23 -> 0
A16: 項目一 | C16: =SUM(D16:F16) -> 0 | G16: =SUM(H16:J16) -> 0 | K16: =B16-C16-C17-G16-G17 -> 0
C17: =SUM(D17:F17) -> 0 | G17: =SUM(H17:J17) -> 0
A18: 項目二 | C18: =SUM(D18:F18) -> 0 | G18: =SUM(H18:J18) -> 0 | K18: =B18-C18-C19-G18-G19 -> 0
C19: =SUM(D19:F19) -> 0 | G19: =SUM(H19:J19) -> 0
A20: 項目三 | C20: =SUM(D20:F20) -> 0 | G20: =SUM(H20:J20) -> 0 | K20: =B20-C20-C21-G20-G21 -> 0
C21: =SUM(D21:F21) -> 0 | G21: =SUM(H21:J21) -> 0
A22: 項目四 | C22: =SUM(D22:F22) -> 0 | G22: =SUM(H22:J22) -> 0 | K22: =B22-C22-C23-G22-G23 -> 0
C23: =SUM(D23:F23) -> 0 | G23: =SUM(H23:J23) -> 0
A24: 4000 | B24: =SUM(B26:B33) -> 0 | C24: =SUM(D24:F24) -> 0 | D24: =D26+D28+D30+D32 -> 0 | E24: =E26+E28+E30+E32 -> 0 | F24: =F26+F28+F30+F32 -> 0 | G24: =SUM(H24:J24) -> 0 | H24: =H26+H28+H30+H32 -> 0 | I24: =I26+I28+I30+I32 -> 0 | J24: =J26+J28+J30+J32 -> 0 | K24: =B24-C24-C25-G24-G25 -> 0
A25: 獎補助費 | C25: =SUM(D25:F25) -> 0 | D25: =D27+D29+D31+D33 -> 0 | E25: =E27+E29+E31+E33 -> 0 | F25: =F27+F29+F31+F33 -> 0 | G25: =SUM(H25:J25) -> 0 | H25: =H27+H29+H31+H33 -> 0 | I25: =I27+I29+I31+I33 -> 0 | J25: =J27+J29+J31+J33 -> 0
A26: 項目一 | C26: =SUM(D26:F26) -> 0 | G26: =SUM(H26:J26) -> 0 | K26: =B26-C26-C27-G26-G27 -> 0
C27: =SUM(D27:F27) -> 0 | G27: =SUM(H27:J27) -> 0
A28: 項目二 | C28: =SUM(D28:F28) -> 0 | G28: =SUM(H28:J28) -> 0 | K28: =B28-C28-C29-G28-G29 -> 0
C29: =SUM(D29:F29) -> 0 | G29: =SUM(H29:J29) -> 0
A30: 項目三 | C30: =SUM(D30:F30) -> 0 | G30: =SUM(H30:J30) -> 0 | K30: =B30-C30-C31-G30-G31 -> 0
C31: =SUM(D31:F31) -> 0 | G31: =SUM(H31:J31) -> 0
A32: 項目四 | C32: =SUM(D32:F32) -> 0 | G32: =SUM(H32:J32) -> 0 | K32: =B32-C32-C33-G32-G33 -> 0
C33: =SUM(D33:F33) -> 0 | G33: =SUM(H33:J33) -> 0
A34: 合 計 | B34: =B14+B24 -> 0 | C34: =C14+C24 -> 0 | D34: =D14+D24 -> 0 | E34: =E14+E24 -> 0 | F34: =F14+F24 -> 0 | G34: =G14+G24 -> 0 | H34: =H14+H24 -> 0 | I34: =I14+I24 -> 0 | J34: =J14+J24 -> 0 | K34: =B34-C34-C35-G34-G35 -> 0
C35: =C15+C25 -> 0 | D35: =D15+D25 -> 0 | E35: =E15+E25 -> 0 | F35: =F15+F25 -> 0 | G35: =G15+G25 -> 0 | H35: =H15+H25 -> 0 | I35: =I15+I25 -> 0 | J35: =J15+J25 -> 0
A36: 製表人 | F36: 單位主管 | I36: 機關長官

Sheet 機械設備
B1: (○○處)
B2: 歲出分配預算與計畫配合表
B3: ="中華民國"&年度!A1&"年度" -> 中華民國116年度 | J3: 單位：千元
A4: 一、計畫名稱及編號： | C4: 一般建築及設備-機械設備 | L4: 灰底部分有公式，請勿修改
A5: 二、全年度預算數： | C5: =B34&"千元" -> 0千元
A6: 三、計畫實施進度或預定完成工作： | C6: 自民國XX年XX月XX日至XX年XX月XX日止
A7: 第一期： | B7: =C34&"千元" -> 0千元 | C7: (請簡要敘述)
A8: 第二期： | B8: =G34&"千元" -> 0千元 | C8: (請簡要敘述)
A9: 第三期： | B9: =C35&"千元" -> 0千元 | C9: (請簡要敘述)
A10: 第四期： | B10: =G35&"千元" -> 0千元 | C10: (請簡要敘述)
A11: 四、預算分配：
A12: 用途別科目及編號 | B12: 全年度預算數 | C12: 第一期小計 | D12: 一月分配數 | E12: 二月分配數 | F12: 三月分配數 | G12: 第二期小計 | H12: 四月分配數 | I12: 五月分配數 | J12: 六月分配數 | K12: 未分配數(含
C13: 第三期小計 | D13: 七月分配數 | E13: 八月分配數 | F13: 九月分配數 | G13: 第四期小計 | H13: 十月分配數 | I13: 十一月分配數 | J13: 十二月分配數 | K13: 專案動支數)
A14: 3000 | B14: =SUM(B16:B23) -> 0 | C14: =SUM(D14:F14) -> 0 | D14: =D16+D18+D20+D22 -> 0 | E14: =E16+E18+E20+E22 -> 0 | F14: =F16+F18+F20+F22 -> 0 | G14: =SUM(H14:J14) -> 0 | H14: =H16+H18+H20+H22 -> 0 | I14: =I16+I18+I20+I22 -> 0 | J14: =J16+J18+J20+J22 -> 0 | K14: =B14-C14-C15-G14-G15 -> 0
A15: 設備及投資 | C15: =SUM(D15:F15) -> 0 | D15: =D17+D19+D21+D23 -> 0 | E15: =E17+E19+E21+E23 -> 0 | F15: =F17+F19+F21+F23 -> 0 | G15: =SUM(H15:J15) -> 0 | H15: =H17+H19+H21+H23 -> 0 | I15: =I17+I19+I21+I23 -> 0 | J15: =J17+J19+J21+J23 -> 0
A16: 項目一 | C16: =SUM(D16:F16) -> 0 | G16: =SUM(H16:J16) -> 0 | K16: =B16-C16-C17-G16-G17 -> 0
C17: =SUM(D17:F17) -> 0 | G17: =SUM(H17:J17) -> 0
A18: 項目二 | C18: =SUM(D18:F18) -> 0 | G18: =SUM(H18:J18) -> 0 | K18: =B18-C18-C19-G18-G19 -> 0
C19: =SUM(D19:F19) -> 0 | G19: =SUM(H19:J19) -> 0
A20: 項目三 | C20: =SUM(D20:F20) -> 0 | G20: =SUM(H20:J20) -> 0 | K20: =B20-C20-C21-G20-G21 -> 0
C21: =SUM(D21:F21) -> 0 | G21: =SUM(H21:J21) -> 0
A22: 項目四 | C22: =SUM(D22:F22) -> 0 | G22: =SUM(H22:J22) -> 0 | K22: =B22-C22-C23-G22-G23 -> 0
C23: =SUM(D23:F23) -> 0 | G23: =SUM(H23:J23) -> 0
A24: 4000 | B24: =SUM(B26:B33) -> 0 | C24: =SUM(D24:F24) -> 0 | D24: =D26+D28+D30+D32 -> 0 | E24: =E26+E28+E30+E32 -> 0 | F24: =F26+F28+F30+F32 -> 0 | G24: =SUM(H24:J24) -> 0 | H24: =H26+H28+H30+H32 -> 0 | I24: =I26+I28+I30+I32 -> 0 | J24: =J26+J28+J30+J32 -> 0 | K24: =B24-C24-C25-G24-G25 -> 0
A25: 獎補助費 | C25: =SUM(D25:F25) -> 0 | D25: =D27+D29+D31+D33 -> 0 | E25: =E27+E29+E31+E33 -> 0 | F25: =F27+F29+F31+F33 -> 0 | G25: =SUM(H25:J25) -> 0 | H25: =H27+H29+H31+H33 -> 0 | I25: =I27+I29+I31+I33 -> 0 | J25: =J27+J29+J31+J33 -> 0
A26: 項目一 | C26: =SUM(D26:F26) -> 0 | G26: =SUM(H26:J26) -> 0 | K26: =B26-C26-C27-G26-G27 -> 0
C27: =SUM(D27:F27) -> 0 | G27: =SUM(H27:J27) -> 0
A28: 項目二 | C28: =SUM(D28:F28) -> 0 | G28: =SUM(H28:J28) -> 0 | K28: =B28-C28-C29-G28-G29 -> 0
C29: =SUM(D29:F29) -> 0 | G29: =SUM(H29:J29) -> 0
A30: 項目三 | C30: =SUM(D30:F30) -> 0 | G30: =SUM(H30:J30) -> 0 | K30: =B30-C30-C31-G30-G31 -> 0
C31: =SUM(D31:F31) -> 0 | G31: =SUM(H31:J31) -> 0
A32: 項目四 | C32: =SUM(D32:F32) -> 0 | G32: =SUM(H32:J32) -> 0 | K32: =B32-C32-C33-G32-G33 -> 0
C33: =SUM(D33:F33) -> 0 | G33: =SUM(H33:J33) -> 0
A34: 合 計 | B34: =B14+B24 -> 0 | C34: =C14+C24 -> 0 | D34: =D14+D24 -> 0 | E34: =E14+E24 -> 0 | F34: =F14+F24 -> 0 | G34: =G14+G24 -> 0 | H34: =H14+H24 -> 0 | I34: =I14+I24 -> 0 | J34: =J14+J24 -> 0 | K34: =B34-C34-C35-G34-G35 -> 0
C35: =C15+C25 -> 0 | D35: =D15+D25 -> 0 | E35: =E15+E25 -> 0 | F35: =F15+F25 -> 0 | G35: =G15+G25 -> 0 | H35: =H15+H25 -> 0 | I35: =I15+I25 -> 0 | J35: =J15+J25 -> 0
A36: 製表人 | F36: 單位主管 | I36: 機關長官

Sheet 其他設備
B1: (○○處)
B2: 歲出分配預算與計畫配合表
B3: ="中華民國"&年度!A1&"年度" -> 中華民國116年度 | J3: 單位：千元
A4: 一、計畫名稱及編號： | C4: 一般建築及設備-其他設備 | L4: 灰底部分有公式，請勿修改
A5: 二、全年度預算數： | C5: =B34&"千元" -> 0千元
A6: 三、計畫實施進度或預定完成工作： | C6: 自民國XX年XX月XX日至XX年XX月XX日止
A7: 第一期： | B7: =C34&"千元" -> 0千元 | C7: (請簡要敘述)
A8: 第二期： | B8: =G34&"千元" -> 0千元 | C8: (請簡要敘述)
A9: 第三期： | B9: =C35&"千元" -> 0千元 | C9: (請簡要敘述)
A10: 第四期： | B10: =G35&"千元" -> 0千元 | C10: (請簡要敘述)
A11: 四、預算分配：
A12: 用途別科目及編號 | B12: 全年度預算數 | C12: 第一期小計 | D12: 一月分配數 | E12: 二月分配數 | F12: 三月分配數 | G12: 第二期小計 | H12: 四月分配數 | I12: 五月分配數 | J12: 六月分配數 | K12: 未分配數(含
C13: 第三期小計 | D13: 七月分配數 | E13: 八月分配數 | F13: 九月分配數 | G13: 第四期小計 | H13: 十月分配數 | I13: 十一月分配數 | J13: 十二月分配數 | K13: 專案動支數)
A14: 3000 | B14: =SUM(B16:B23) -> 0 | C14: =SUM(D14:F14) -> 0 | D14: =D16+D18+D20+D22 -> 0 | E14: =E16+E18+E20+E22 -> 0 | F14: =F16+F18+F20+F22 -> 0 | G14: =SUM(H14:J14) -> 0 | H14: =H16+H18+H20+H22 -> 0 | I14: =I16+I18+I20+I22 -> 0 | J14: =J16+J18+J20+J22 -> 0 | K14: =B14-C14-C15-G14-G15 -> 0
A15: 設備及投資 | C15: =SUM(D15:F15) -> 0 | D15: =D17+D19+D21+D23 -> 0 | E15: =E17+E19+E21+E23 -> 0 | F15: =F17+F19+F21+F23 -> 0 | G15: =SUM(H15:J15) -> 0 | H15: =H17+H19+H21+H23 -> 0 | I15: =I17+I19+I21+I23 -> 0 | J15: =J17+J19+J21+J23 -> 0
A16: 項目一 | C16: =SUM(D16:F16) -> 0 | G16: =SUM(H16:J16) -> 0 | K16: =B16-C16-C17-G16-G17 -> 0
C17: =SUM(D17:F17) -> 0 | G17: =SUM(H17:J17) -> 0
A18: 項目二 | C18: =SUM(D18:F18) -> 0 | G18: =SUM(H18:J18) -> 0 | K18: =B18-C18-C19-G18-G19 -> 0
C19: =SUM(D19:F19) -> 0 | G19: =SUM(H19:J19) -> 0
A20: 項目三 | C20: =SUM(D20:F20) -> 0 | G20: =SUM(H20:J20) -> 0 | K20: =B20-C20-C21-G20-G21 -> 0
C21: =SUM(D21:F21) -> 0 | G21: =SUM(H21:J21) -> 0
A22: 項目四 | C22: =SUM(D22:F22) -> 0 | G22: =SUM(H22:J22) -> 0 | K22: =B22-C22-C23-G22-G23 -> 0
C23: =SUM(D23:F23) -> 0 | G23: =SUM(H23:J23) -> 0
A24: 4000 | B24: =SUM(B26:B33) -> 0 | C24: =SUM(D24:F24) -> 0 | D24: =D26+D28+D30+D32 -> 0 | E24: =E26+E28+E30+E32 -> 0 | F24: =F26+F28+F30+F32 -> 0 | G24: =SUM(H24:J24) -> 0 | H24: =H26+H28+H30+H32 -> 0 | I24: =I26+I28+I30+I32 -> 0 | J24: =J26+J28+J30+J32 -> 0 | K24: =B24-C24-C25-G24-G25 -> 0
A25: 獎補助費 | C25: =SUM(D25:F25) -> 0 | D25: =D27+D29+D31+D33 -> 0 | E25: =E27+E29+E31+E33 -> 0 | F25: =F27+F29+F31+F33 -> 0 | G25: =SUM(H25:J25) -> 0 | H25: =H27+H29+H31+H33 -> 0 | I25: =I27+I29+I31+I33 -> 0 | J25: =J27+J29+J31+J33 -> 0
A26: 項目一 | C26: =SUM(D26:F26) -> 0 | G26: =SUM(H26:J26) -> 0 | K26: =B26-C26-C27-G26-G27 -> 0
C27: =SUM(D27:F27) -> 0 | G27: =SUM(H27:J27) -> 0
A28: 項目二 | C28: =SUM(D28:F28) -> 0 | G28: =SUM(H28:J28) -> 0 | K28: =B28-C28-C29-G28-G29 -> 0
C29: =SUM(D29:F29) -> 0 | G29: =SUM(H29:J29) -> 0
A30: 項目三 | C30: =SUM(D30:F30) -> 0 | G30: =SUM(H30:J30) -> 0 | K30: =B30-C30-C31-G30-G31 -> 0
C31: =SUM(D31:F31) -> 0 | G31: =SUM(H31:J31) -> 0
A32: 項目四 | C32: =SUM(D32:F32) -> 0 | G32: =SUM(H32:J32) -> 0 | K32: =B32-C32-C33-G32-G33 -> 0
C33: =SUM(D33:F33) -> 0 | G33: =SUM(H33:J33) -> 0
A34: 合 計 | B34: =B14+B24 -> 0 | C34: =C14+C24 -> 0 | D34: =D14+D24 -> 0 | E34: =E14+E24 -> 0 | F34: =F14+F24 -> 0 | G34: =G14+G24 -> 0 | H34: =H14+H24 -> 0 | I34: =I14+I24 -> 0 | J34: =J14+J24 -> 0 | K34: =B34-C34-C35-G34-G35 -> 0
C35: =C15+C25 -> 0 | D35: =D15+D25 -> 0 | E35: =E15+E25 -> 0 | F35: =F15+F25 -> 0 | G35: =G15+G25 -> 0 | H35: =H15+H25 -> 0 | I35: =I15+I25 -> 0 | J35: =J15+J25 -> 0
A36: 製表人 | F36: 單位主管 | I36: 機關長官

Sheet 年度
A1: 116
